BEGIN:VCALENDAR
VERSION:2.0
CALSCALE:GREGORIAN
PRODID:-//Diputació de Barcelona//DibaCMS//EN
BEGIN:VEVENT
UID:3617
DTSTAMP:20260422T173044
DTSTART:20191216T000000
DTEND:20200117T000000
SUMMARY:Matrícula gratuïta a la Sala Polivalent
LOCATION:Sant Jeroni, 12-14  08254 El Pont de Vilomara i Rocafort
METHOD:PUBLISH
X-WR-CALNAME:info.pont@elpont.cat
X-WR-TIMEZONE:Europe/Madrid
DESCRIPTION:Des de dilluns 16 de desembre de 2019 i fins al divendres 17 de gener de 2020, no tens excusa per no apuntar-te al gimnàs.

URI:https://www.elpont.cat/actualitat/agenda/3617-matricula-gratuita-a-la-sala-polivalent.html
CLASS:PUBLIC
END:VEVENT
END:VCALENDAR
