BEGIN:VCALENDAR
VERSION:2.0
CALSCALE:GREGORIAN
PRODID:-//Diputació de Barcelona//DibaCMS//EN
BEGIN:VEVENT
UID:3618
DTSTAMP:20260422T131029
DTSTART:20191211T180000
DTEND:20191211T180000
SUMMARY:Programa gent gran activa "Qigong per la salut"
LOCATION:Plaça Margarida, s/n. 08254 El Pont de Vilomara i Rocafort
METHOD:PUBLISH
X-WR-CALNAME:info.pont@elpont.cat
X-WR-TIMEZONE:Europe/Madrid
DESCRIPTION:És l'art d'integrar ment, exercici físic i respiració per afavorir els estats de calma, millorar el rendiment i generar benestar.

URI:https://www.elpont.cat/actualitat/agenda/3618-programa-gent-gran-activa-qigong-per-la-salut.html
CLASS:PUBLIC
END:VEVENT
END:VCALENDAR
