BEGIN:VCALENDAR
VERSION:2.0
CALSCALE:GREGORIAN
PRODID:-//Diputació de Barcelona//DibaCMS//EN
BEGIN:VEVENT
UID:3630
DTSTAMP:20260422T102242
DTSTART:20191227T090000
DTEND:20191227T130000
SUMMARY:Festes nadalenques 2019 - Escola de Nadal Futsal - Dia 1
LOCATION:Sant Jeroni, 12-14  08254 El Pont de Vilomara i Rocafort
METHOD:PUBLISH
X-WR-CALNAME:info.pont@elpont.cat
X-WR-TIMEZONE:Europe/Madrid
DESCRIPTION:
URI:https://www.elpont.cat/actualitat/agenda/festes-nadalenques-2019-escola-de-nadal-futsal-dia-1.html
CLASS:PUBLIC
END:VEVENT
END:VCALENDAR
