BEGIN:VCALENDAR
VERSION:2.0
CALSCALE:GREGORIAN
PRODID:-//Diputació de Barcelona//DibaCMS//EN
BEGIN:VEVENT
UID:3674
DTSTAMP:20260422T065424
DTSTART:20200116T130000
DTEND:20200116T130000
SUMMARY:Desè aniversari de l'ampliació de la Biblioteca Municipal - Trobada informal amb aperitiu
LOCATION:Sant Pere Regalat, 72, baixos 08254 El Pont de Vilomara i Rocafort
METHOD:PUBLISH
X-WR-CALNAME:info.pont@elpont.cat
X-WR-TIMEZONE:Europe/Madrid
DESCRIPTION:Celebrem el 10è aniversari de la biblioteca amb vosaltres tot compartint records, anècdotes, bons moments i pensant en el futur amb noves propostes i idees per a millorar el servei que us oferim

URI:https://www.elpont.cat/actualitat/agenda/dese-aniversari-de-lampliacio-de-la-biblioteca-municipal-trobada-informal-amb-aperitiu.html
CLASS:PUBLIC
END:VEVENT
END:VCALENDAR
