BEGIN:VCALENDAR
VERSION:2.0
CALSCALE:GREGORIAN
PRODID:-//Diputació de Barcelona//DibaCMS//EN
BEGIN:VEVENT
UID:3676
DTSTAMP:20260422T132338
DTSTART:20200110T000000
DTEND:20200131T000000
SUMMARY:Biblioteques amb DO 2020 - Exposició “Lletres i vins” Visuals2019
LOCATION:Sant Pere Regalat, 72, baixos 08254 El Pont de Vilomara i Rocafort
METHOD:PUBLISH
X-WR-CALNAME:info.pont@elpont.cat
X-WR-TIMEZONE:Europe/Madrid
DESCRIPTION:Mostra plàstica sobre teles amb la vinya i el vi com a eix vertebrador.

L’exposició es podrà visitar en horari de biblioteca.

URI:https://www.elpont.cat/actualitat/agenda/biblioteques-amb-do-2020-exposicio-lletres-i-vins-visuals2019.html
CLASS:PUBLIC
END:VEVENT
END:VCALENDAR
