BEGIN:VCALENDAR
VERSION:2.0
CALSCALE:GREGORIAN
PRODID:-//Diputació de Barcelona//DibaCMS//EN
BEGIN:VEVENT
UID:3677
DTSTAMP:20260422T075736
DTSTART:20200124T150000
DTEND:20200124T150000
SUMMARY:Biblioteques amb DO 2020 - Tertúlia literària sobre la novel•la “Terra Aspriva”
LOCATION:Sant Pere Regalat, 72, baixos 08254 El Pont de Vilomara i Rocafort
METHOD:PUBLISH
X-WR-CALNAME:info.pont@elpont.cat
X-WR-TIMEZONE:Europe/Madrid
DESCRIPTION:Premi de novel·la curta Celler de Lletres amb la presència de l’escriptor Sebastià Bennasar.

URI:https://www.elpont.cat/actualitat/agenda/biblioteques-amb-do-2020-tertulia-literaria-sobre-la-novella-terra-aspriva.html
CLASS:PUBLIC
END:VEVENT
END:VCALENDAR
