BEGIN:VCALENDAR
VERSION:2.0
CALSCALE:GREGORIAN
PRODID:-//Diputació de Barcelona//DibaCMS//EN
BEGIN:VEVENT
UID:3678
DTSTAMP:20260422T080719
DTSTART:20200125T120000
DTEND:20200125T120000
SUMMARY:Biblioteques amb DO 2020 - Xerrada “Les barraques de pedra seca”
LOCATION:Sant Pere Regalat, 72, baixos 08254 El Pont de Vilomara i Rocafort
METHOD:PUBLISH
X-WR-CALNAME:info.pont@elpont.cat
X-WR-TIMEZONE:Europe/Madrid
DESCRIPTION:A càrrec de Pere Trapé

URI:https://www.elpont.cat/actualitat/agenda/biblioteques-amb-do-2020-xerrada-les-barraques-de-pedra-seca.html
CLASS:PUBLIC
END:VEVENT
END:VCALENDAR
