BEGIN:VCALENDAR
VERSION:2.0
CALSCALE:GREGORIAN
PRODID:-//Diputació de Barcelona//DibaCMS//EN
BEGIN:VEVENT
UID:3679
DTSTAMP:20260422T080209
DTSTART:20191201T000000
DTEND:20200131T000000
SUMMARY:Biblioteques amb DO 2020 - Concurs fotogràfic a Instagram #vinstagrampladebages2020
LOCATION:Sant Pere Regalat, 72, baixos 08254 El Pont de Vilomara i Rocafort
METHOD:PUBLISH
X-WR-CALNAME:info.pont@elpont.cat
X-WR-TIMEZONE:Europe/Madrid
DESCRIPTION:Les biblioteques d’Artés, Avinyó, Ateneu Les Bases de Manresa, Navarcles, El Pont de Vilomara i Rocafort, St Fruitós de Bages i Súria, juntament amb la DO Pla de Bages organitzem per quart any un concurs fotogràfic sobre el món del vi i la vinya.

Consulteu les bases a les Biblioteques, a la nostra página de Facebook https://www.facebook.com/bibliotecapontdevilomara o a la DO Pla de Bages.

URI:https://www.elpont.cat/actualitat/agenda/biblioteques-amb-do-2020-concurs-fotografic-a-instagram-vinstagrampladebages2020.html
CLASS:PUBLIC
END:VEVENT
END:VCALENDAR
