BEGIN:VCALENDAR
VERSION:2.0
CALSCALE:GREGORIAN
PRODID:-//Diputació de Barcelona//DibaCMS//EN
BEGIN:VEVENT
UID:3690
DTSTAMP:20260422T064252
DTSTART:20200207T150000
DTEND:20200207T150000
SUMMARY:Taller d'enquadernació a la Biblioteca
LOCATION:Sant Pere Regalat, 72, baixos 08254 El Pont de Vilomara i Rocafort
METHOD:PUBLISH
X-WR-CALNAME:info.pont@elpont.cat
X-WR-TIMEZONE:Europe/Madrid
DESCRIPTION:Taller adreçat al públic jove i adult on aprendrem la tècnica tradicional i artesanal japonesa d'enquadernació.

A càrrec d'El Taller del Bosc.

URI:https://www.elpont.cat/actualitat/agenda/taller-denquadernacio-a-la-biblioteca.html
CLASS:PUBLIC
END:VEVENT
END:VCALENDAR
