BEGIN:VCALENDAR
VERSION:2.0
CALSCALE:GREGORIAN
PRODID:-//Diputació de Barcelona//DibaCMS//EN
BEGIN:VEVENT
UID:3692
DTSTAMP:20260422T134223
DTSTART:20200227T000000
DTEND:20200227T000000
SUMMARY:Nova campanya per la renovació del DNI
LOCATION:
METHOD:PUBLISH
X-WR-CALNAME:info.pont@elpont.cat
X-WR-TIMEZONE:Europe/Madrid
DESCRIPTION:Des de l’Ajuntament es torna a organitzar una nova jornada de renovacions del DNI al municipi.

Es faran el dijous 27 de febrer i s’hauran de recollir el dimarts 3 de març, en tots dos casos durant el matí.

URI:https://www.elpont.cat/actualitat/agenda/nova-campanya-per-la-renovacio-del-dni.html
CLASS:PUBLIC
END:VEVENT
END:VCALENDAR
