BEGIN:VCALENDAR
VERSION:2.0
CALSCALE:GREGORIAN
PRODID:-//Diputació de Barcelona//DibaCMS//EN
BEGIN:VEVENT
UID:3716
DTSTAMP:20260422T121555
DTSTART:20200309T170000
DTEND:20200309T170000
SUMMARY:Festa del Contribuent 2020 - Espectacle i taller de circ
LOCATION:Sant Pere Regalat, 18-28 08254 El Pont de Vilomara i Rocafort
METHOD:PUBLISH
X-WR-CALNAME:info.pont@elpont.cat
X-WR-TIMEZONE:Europe/Madrid
DESCRIPTION:A càrrec de la Companyia Malaboig.

URI:https://www.elpont.cat/actualitat/agenda/festa-del-contribuent-2020-espectacle-i-taller-de-circ.html
CLASS:PUBLIC
END:VEVENT
END:VCALENDAR
