BEGIN:VCALENDAR
VERSION:2.0
CALSCALE:GREGORIAN
PRODID:-//Diputació de Barcelona//DibaCMS//EN
BEGIN:VEVENT
UID:3726
DTSTAMP:20260422T090925
DTSTART:20200318T180000
DTEND:20200318T180000
SUMMARY:ACTIVITAT SUSPESA - Programa gent gran activa "Qigong per la salut"
LOCATION:Plaça Margarida, s/n. 08254 El Pont de Vilomara i Rocafort
METHOD:PUBLISH
X-WR-CALNAME:info.pont@elpont.cat
X-WR-TIMEZONE:Europe/Madrid
DESCRIPTION:Suspesa d'acord amb les indicacions de les autoritats sanitàries competents.

 

URI:https://www.elpont.cat/actualitat/agenda/activitat-suspesa-programa-gent-gran-activa-qigong-per-la-salut.html
CLASS:PUBLIC
END:VEVENT
END:VCALENDAR
