BEGIN:VCALENDAR
VERSION:2.0
CALSCALE:GREGORIAN
PRODID:-//Diputació de Barcelona//DibaCMS//EN
BEGIN:VEVENT
UID:3792
DTSTAMP:20260422T031529
DTSTART:20201019T093000
DTEND:20201019T110000
SUMMARY:Deixalleria mòbil
LOCATION:Carrer Jesús, davant l'IE Pompeu Fabra. Al mercat setmanal dels dilluns. 
METHOD:PUBLISH
X-WR-CALNAME:info.pont@elpont.cat
X-WR-TIMEZONE:Europe/Madrid
DESCRIPTION:La deixalleria mòbil és un furgó que recorre els municipis consorciats, al qual es poden portar residus de mida petita que no es poden llençar als contenidors.

URI:https://www.elpont.cat/actualitat/agenda/3792-deixalleria-mobil.html
CLASS:PUBLIC
END:VEVENT
END:VCALENDAR
