BEGIN:VCALENDAR
VERSION:2.0
CALSCALE:GREGORIAN
PRODID:-//Diputació de Barcelona//DibaCMS//EN
BEGIN:VEVENT
UID:3812
DTSTAMP:20260421T221338
DTSTART:20200718T220000
DTEND:20200718T220000
SUMMARY:ACTIVITATS D'ESTIU - Cinema a la fresca
LOCATION:Plaça de l'Ajuntament 
METHOD:PUBLISH
X-WR-CALNAME:info.pont@elpont.cat
X-WR-TIMEZONE:Europe/Madrid
DESCRIPTION:Pel·lícula: Togo

URI:https://www.elpont.cat/actualitat/agenda/3812-activitats-destiu-cinema-a-la-fresca.html
CLASS:PUBLIC
END:VEVENT
END:VCALENDAR
