BEGIN:VCALENDAR
VERSION:2.0
CALSCALE:GREGORIAN
PRODID:-//Diputació de Barcelona//DibaCMS//EN
BEGIN:VEVENT
UID:3824
DTSTAMP:20260421T233118
DTSTART:20200719T090000
DTEND:20200719T090000
SUMMARY:ACTIVITATS D'ESTIU - Primera trobada d'Urban Sketchers
LOCATION:Plaça Major 08254 El Pont de Vilomara i Rocafort
METHOD:PUBLISH
X-WR-CALNAME:info.pont@elpont.cat
X-WR-TIMEZONE:Europe/Madrid
DESCRIPTION:Urban Sketchers és una comunitat global de dibuixants, tant professionals com aficionats, que fomenta la pràctica del dibuix in situ, i l'observació directa de la vida urbana. Amb el lema "Veure el món, dibuix a dibuix", aquests dibuixants urbans comparteixen els seus treballs a Internet mitjançant blocs i xarxes socials. (Viquipèdia)

Recordeu que heu de fer la vostra inscripció a través del sistema de Cita Prèvia Municipal fins al 17 de juliol.

URI:https://www.elpont.cat/actualitat/agenda/activitats-destiu-primera-trobada-durban-sketchers.html
CLASS:PUBLIC
END:VEVENT
END:VCALENDAR
