BEGIN:VCALENDAR
VERSION:2.0
CALSCALE:GREGORIAN
PRODID:-//Diputació de Barcelona//DibaCMS//EN
BEGIN:VEVENT
UID:3827
DTSTAMP:20260421T231703
DTSTART:20200726T193000
DTEND:20200726T193000
SUMMARY:ACTIVITATS D'ESTIU - Espectacle infantil
LOCATION:Plaça de l'Ajuntament 
METHOD:PUBLISH
X-WR-CALNAME:info.pont@elpont.cat
X-WR-TIMEZONE:Europe/Madrid
DESCRIPTION:"Petit Marramangu" amb Pep Callau

URI:https://www.elpont.cat/actualitat/agenda/activitats-destiu-espectacle-infantil.html
CLASS:PUBLIC
END:VEVENT
END:VCALENDAR
