BEGIN:VCALENDAR
VERSION:2.0
CALSCALE:GREGORIAN
PRODID:-//Diputació de Barcelona//DibaCMS//EN
BEGIN:VEVENT
UID:3841
DTSTAMP:20260422T024917
DTSTART:20200921T200000
DTEND:20200921T200000
SUMMARY:Ple ordinari per al dilluns 21 de setembre de 2020
LOCATION:Mestre Saura, 5-B El Pont de Vilomara i Rocafort
METHOD:PUBLISH
X-WR-CALNAME:info.pont@elpont.cat
X-WR-TIMEZONE:Europe/Madrid
DESCRIPTION:
URI:https://www.elpont.cat/actualitat/agenda/3841-ple-ordinari-per-al-dilluns-21-de-setembre-de-2020.html
CLASS:PUBLIC
END:VEVENT
END:VCALENDAR
