BEGIN:VCALENDAR
VERSION:2.0
CALSCALE:GREGORIAN
PRODID:-//Diputació de Barcelona//DibaCMS//EN
BEGIN:VEVENT
UID:3852
DTSTAMP:20260422T065449
DTSTART:20201021T150000
DTEND:20201021T150000
SUMMARY:Biblioteca municipal - Activitats octubre 2020 - Taller Rellotges
LOCATION:Sant Pere Regalat, 72, baixos 08254 El Pont de Vilomara i Rocafort
METHOD:PUBLISH
X-WR-CALNAME:info.pont@elpont.cat
X-WR-TIMEZONE:Europe/Madrid
DESCRIPTION:Taller “Rellotges amb CD’s reciclats” Taller del Bosc" (s'ha d'escollir un dels dos dies).

URI:https://www.elpont.cat/actualitat/agenda/biblioteca-municipal-activitats-octubre-2020-taller-rellotges.html
CLASS:PUBLIC
END:VEVENT
END:VCALENDAR
