BEGIN:VCALENDAR
VERSION:2.0
CALSCALE:GREGORIAN
PRODID:-//Diputació de Barcelona//DibaCMS//EN
BEGIN:VEVENT
UID:3863
DTSTAMP:20260422T070723
DTSTART:20201016T150000
DTEND:20201016T150000
SUMMARY:Xerrada telemàtica sobre "Agenda escolar i ús de pantalles"
LOCATION:Format on-line 
METHOD:PUBLISH
X-WR-CALNAME:info.pont@elpont.cat
X-WR-TIMEZONE:Europe/Madrid
DESCRIPTION:En aquesta xerrada de continguts relacionats amb la gestió del temps d'oci dels infants i l'ús de les pantalles, es treballen estratègies per treure’n el màxim profit, tot fomentant la responsabilitat i l'autonomia dels infants. Al final dedicarem un temps a la resolució dels casos personals que vulguin proposar els propis assistents.

URI:https://www.elpont.cat/actualitat/agenda/xerrada-telematica-sobre-agenda-escolar-i-us-de-pantalles.html
CLASS:PUBLIC
END:VEVENT
END:VCALENDAR
