BEGIN:VCALENDAR
VERSION:2.0
CALSCALE:GREGORIAN
PRODID:-//Diputació de Barcelona//DibaCMS//EN
BEGIN:VEVENT
UID:3871
DTSTAMP:20260422T044434
DTSTART:20201030T170000
DTEND:20201030T210000
SUMMARY:Campanya de donació de sang al Pont de Vilomara i Rocafort
LOCATION:Sant Pere Regalat, 18-28 08254 El Pont de Vilomara i Rocafort
METHOD:PUBLISH
X-WR-CALNAME:info.pont@elpont.cat
X-WR-TIMEZONE:Europe/Madrid
DESCRIPTION:Un any més es desplaça l'equip de donació de sang per facilitar als veïns i veïnes del poble la possibilitat de donar sang. recordeu que com cada any és molt necessari i que aquest any, atesa la situació sanitària, encara ho és més.

URI:https://www.elpont.cat/actualitat/agenda/3871-campanya-de-donacio-de-sang-al-pont-de-vilomara-i-rocafort.html
CLASS:PUBLIC
END:VEVENT
END:VCALENDAR
