BEGIN:VCALENDAR
VERSION:2.0
CALSCALE:GREGORIAN
PRODID:-//Diputació de Barcelona//DibaCMS//EN
BEGIN:VEVENT
UID:3883
DTSTAMP:20260421T233636
DTSTART:20201118T150000
DTEND:20201118T150000
SUMMARY:Biblioteca municipal - Activitat virtual novembre 2020 - Taller “El poder és dins teu!” - Sessió 1
LOCATION:Sessions virtuals a través d ela plataforma Zoom 
METHOD:PUBLISH
X-WR-CALNAME:info.pont@elpont.cat
X-WR-TIMEZONE:Europe/Madrid
DESCRIPTION:Amb la coach i comunicadora Verónica Soto.

URI:https://www.elpont.cat/actualitat/agenda/biblioteca-municipal-activitat-virtual-novembre-2020-taller-el-poder-es-dins-teu-sessio-1.html
CLASS:PUBLIC
END:VEVENT
END:VCALENDAR
