BEGIN:VCALENDAR
VERSION:2.0
CALSCALE:GREGORIAN
PRODID:-//Diputació de Barcelona//DibaCMS//EN
BEGIN:VEVENT
UID:3888
DTSTAMP:20260421T230254
DTSTART:20201121T113000
DTEND:20201121T113000
SUMMARY:Biblioteca municipal - Activitat virtual novembre 2020 - L'hora del conte - “Fans dels infants. Contes i drets dels infants”
LOCATION:Sant Pere Regalat, 72, baixos 08254 El Pont de Vilomara i Rocafort
METHOD:PUBLISH
X-WR-CALNAME:info.pont@elpont.cat
X-WR-TIMEZONE:Europe/Madrid
DESCRIPTION:A  càrrec de Petita Companyia i en commemoració del Dia dels Drets dels Infants.

URI:https://www.elpont.cat/actualitat/agenda/biblioteca-municipal-activitat-virtual-novembre-2020-lhora-del-conte-fans-dels-infants-contes-i-drets-dels-infants.html
CLASS:PUBLIC
END:VEVENT
END:VCALENDAR
