BEGIN:VCALENDAR
VERSION:2.0
CALSCALE:GREGORIAN
PRODID:-//Diputació de Barcelona//DibaCMS//EN
BEGIN:VEVENT
UID:3891
DTSTAMP:20260422T025446
DTSTART:20201116T100000
DTEND:20201116T113000
SUMMARY:Tercera jornada de vacunació contra la grip
LOCATION:Sant Pere Regalat, 18-28 08254 El Pont de Vilomara i Rocafort
METHOD:PUBLISH
X-WR-CALNAME:info.pont@elpont.cat
X-WR-TIMEZONE:Europe/Madrid
DESCRIPTION:S’informa que el proper dilluns 16 de novembre de 10:00 a 11:30h el personal del CAP Sant Vicenç de Castellet, estaran al Centre Cívic “Evaristo de la Torre” per vacunar de la grip a la població.

URI:https://www.elpont.cat/actualitat/agenda/tercera-jornada-de-vacunacio-contra-la-grip.html
CLASS:PUBLIC
END:VEVENT
END:VCALENDAR
