BEGIN:VCALENDAR
VERSION:2.0
CALSCALE:GREGORIAN
PRODID:-//Diputació de Barcelona//DibaCMS//EN
BEGIN:VEVENT
UID:3895
DTSTAMP:20260421T173803
DTSTART:20201116T200000
DTEND:20201116T200000
SUMMARY:Ple Ordinari per al dilluns 16 de novembre de 2020 - Telemàtic
LOCATION:Aquest ple se celebrarà telemàticament, atesa la situació d'estat d'alarma pel COVID-19 
METHOD:PUBLISH
X-WR-CALNAME:info.pont@elpont.cat
X-WR-TIMEZONE:Europe/Madrid
DESCRIPTION:El podreu seguir en directe a través d'aquest enllaç:

EMISSIÓ EN DIRECTE DEL PLE

URI:https://www.elpont.cat/actualitat/agenda/ple-ordinari-per-al-dilluns-16-de-novembre-de-2020-telematic.html
CLASS:PUBLIC
END:VEVENT
END:VCALENDAR
