BEGIN:VCALENDAR
VERSION:2.0
CALSCALE:GREGORIAN
PRODID:-//Diputació de Barcelona//DibaCMS//EN
BEGIN:VEVENT
UID:3915
DTSTAMP:20260422T031630
DTSTART:20201212T113000
DTEND:20201212T113000
SUMMARY:Biblioteca municipal - L'hora del conte virtual - “Tocats de l'ala"
LOCATION:Activitat Virtual: s'ha de seguir a través del canal d'Instagram de la Biblioteca (@bib.pont) 
METHOD:PUBLISH
X-WR-CALNAME:info.pont@elpont.cat
X-WR-TIMEZONE:Europe/Madrid
DESCRIPTION:Ui, ui, ui, s'acosta el Nadal i el corral està ben revolucionat. Les gallines, els pollastres, els capons, els titots i els ànecs s'han plantat i han dit prou, ni ous, ni brous, ni sopes, ni rostits. Ui, ui, ui, això no pinta gens bé! I, vés a saber com acabarà !!!!

URI:https://www.elpont.cat/actualitat/agenda/biblioteca-municipal-lhora-del-conte-virtual-tocats-de-lala.html
CLASS:PUBLIC
END:VEVENT
END:VCALENDAR
