BEGIN:VCALENDAR
VERSION:2.0
CALSCALE:GREGORIAN
PRODID:-//Diputació de Barcelona//DibaCMS//EN
BEGIN:VEVENT
UID:3969
DTSTAMP:20260422T001947
DTSTART:20210522T000000
DTEND:20210522T235900
SUMMARY:Acte a Xarxes Socials de lliurament del XXIII Premi de poesia Sra. Josefina Oliveras
LOCATION:Xarxes Socials municipals: Facebook i Instagram 
METHOD:PUBLISH
X-WR-CALNAME:info.pont@elpont.cat
X-WR-TIMEZONE:Europe/Madrid
DESCRIPTION:Lliurament del premi 2021.

Organitza: l'Ajuntament

 

URI:https://www.elpont.cat/actualitat/agenda/acte-a-xarxes-socials-de-lliurament-del-xxiii-premi-de-poesia-sra-josefina-oliveras.html
CLASS:PUBLIC
END:VEVENT
END:VCALENDAR
