BEGIN:VCALENDAR
VERSION:2.0
CALSCALE:GREGORIAN
PRODID:-//Diputació de Barcelona//DibaCMS//EN
BEGIN:VEVENT
UID:3975
DTSTAMP:20260422T002057
DTSTART:20210423T000000
DTEND:20210423T235900
SUMMARY:Biblioteca municipal - Activitats abril 2021 - Marató de contes de Sant Jordi
LOCATION:Diferents llocs del poble 
METHOD:PUBLISH
X-WR-CALNAME:info.pont@elpont.cat
X-WR-TIMEZONE:Europe/Madrid
DESCRIPTION:Contes per celebrar Sant Jordi i amenitzar aquest dia dedicat a les roses i els llibres.

Atenció, canvi de lloc: la Rosa Pinyol estarà al Passeig de la Pau, en compte del Carrer Mestre Saura.

URI:https://www.elpont.cat/actualitat/agenda/biblioteca-municipal-activitats-abril-2021-marato-de-contes-de-sant-jordi.html
CLASS:PUBLIC
END:VEVENT
END:VCALENDAR
