BEGIN:VCALENDAR
VERSION:2.0
CALSCALE:GREGORIAN
PRODID:-//Diputació de Barcelona//DibaCMS//EN
BEGIN:VEVENT
UID:3987
DTSTAMP:20260421T230558
DTSTART:20210503T000000
DTEND:20210521T235900
SUMMARY:Presentació de sol·licituds per demanar ajuts per als Campus d'Estiu 2021
LOCATION:08254 El Pont de Vilomara i Rocafort
METHOD:PUBLISH
X-WR-CALNAME:info.pont@elpont.cat
X-WR-TIMEZONE:Europe/Madrid
DESCRIPTION:Termini de presentació de sol·licituds.

URI:https://www.elpont.cat/actualitat/agenda/presentacio-de-sollicituds-per-demanar-ajuts-per-als-campus-destiu-2021.html
CLASS:PUBLIC
END:VEVENT
END:VCALENDAR
