BEGIN:VCALENDAR
VERSION:2.0
CALSCALE:GREGORIAN
PRODID:-//Diputació de Barcelona//DibaCMS//EN
BEGIN:VEVENT
UID:3994
DTSTAMP:20260421T115331
DTSTART:20210522T110000
DTEND:20210522T110000
SUMMARY:Biblioteca municipal - Activitats maig 2021 - Cuina en menys de 3h: els secrets del Batch Cooking
LOCATION:Sant Pere Regalat, 72, baixos 08254 El Pont de Vilomara i Rocafort
METHOD:PUBLISH
X-WR-CALNAME:info.pont@elpont.cat
X-WR-TIMEZONE:Europe/Madrid
DESCRIPTION:A càrrec de la cuinera i periodista Núria Gispert.

URI:https://www.elpont.cat/actualitat/agenda/biblioteca-municipal-activitats-maig-2021-cuina-en-menys-de-3h-els-secrets-del-batch-cooking.html
CLASS:PUBLIC
END:VEVENT
END:VCALENDAR
