BEGIN:VCALENDAR
VERSION:2.0
CALSCALE:GREGORIAN
PRODID:-//Diputació de Barcelona//DibaCMS//EN
BEGIN:VEVENT
UID:4013
DTSTAMP:20260421T143653
DTSTART:20210607T000000
DTEND:20210625T235900
SUMMARY:Inscripcions al Campus d'Or 2021
LOCATION:Sant Jeroni, 12-14  08254 El Pont de Vilomara i Rocafort
METHOD:PUBLISH
X-WR-CALNAME:info.pont@elpont.cat
X-WR-TIMEZONE:Europe/Madrid
DESCRIPTION:Període per fer la inscripció al Campus d'Or 2021.

 

URI:https://www.elpont.cat/actualitat/agenda/inscripcions-al-campus-dor-2021.html
CLASS:PUBLIC
END:VEVENT
END:VCALENDAR
