BEGIN:VCALENDAR
VERSION:2.0
CALSCALE:GREGORIAN
PRODID:-//Diputació de Barcelona//DibaCMS//EN
BEGIN:VEVENT
UID:4028
DTSTAMP:20260422T042348
DTSTART:20210619T223000
DTEND:20210619T223000
SUMMARY:Activitats d'estiu - Concert
LOCATION:Espai Matadars 
METHOD:PUBLISH
X-WR-CALNAME:info.pont@elpont.cat
X-WR-TIMEZONE:Europe/Madrid
DESCRIPTION:Amb Jordi Armengol i Carlos Maestro.

URI:https://www.elpont.cat/actualitat/agenda/activitats-destiu-concert.html
CLASS:PUBLIC
END:VEVENT
END:VCALENDAR
