BEGIN:VCALENDAR
VERSION:2.0
CALSCALE:GREGORIAN
PRODID:-//Diputació de Barcelona//DibaCMS//EN
BEGIN:VEVENT
UID:4047
DTSTAMP:20260421T230841
DTSTART:20210711T093000
DTEND:20210711T093000
SUMMARY:Festa Major 2021 - Gimcana infantil
LOCATION:Passeig de la Pau 
METHOD:PUBLISH
X-WR-CALNAME:info.pont@elpont.cat
X-WR-TIMEZONE:Europe/Madrid
DESCRIPTION:Amb 8 proves d'habilitat, aigua i cooperació. Amb Festa de l'Escuma al final.

URI:https://www.elpont.cat/actualitat/agenda/festa-major-2021-gimcana-infantil.html
CLASS:PUBLIC
END:VEVENT
END:VCALENDAR
