BEGIN:VCALENDAR
VERSION:2.0
CALSCALE:GREGORIAN
PRODID:-//Diputació de Barcelona//DibaCMS//EN
BEGIN:VEVENT
UID:4089
DTSTAMP:20260421T161734
DTSTART:20210808T090000
DTEND:20210808T090000
SUMMARY:Festa Major Rocafort 2021 - Micro Duatló
LOCATION:Sortida camp d'espots 
METHOD:PUBLISH
X-WR-CALNAME:info.pont@elpont.cat
X-WR-TIMEZONE:Europe/Madrid
DESCRIPTION:
URI:https://www.elpont.cat/actualitat/agenda/festa-major-rocafort-2021-micro-duatlo.html
CLASS:PUBLIC
END:VEVENT
END:VCALENDAR
