BEGIN:VCALENDAR
VERSION:2.0
CALSCALE:GREGORIAN
PRODID:-//Diputació de Barcelona//DibaCMS//EN
BEGIN:VEVENT
UID:4098
DTSTAMP:20260421T191237
DTSTART:20210812T093000
DTEND:20210812T093000
SUMMARY:Festa Major Rocafort 2021 - Mou-te
LOCATION:Plaça Gran 
METHOD:PUBLISH
X-WR-CALNAME:info.pont@elpont.cat
X-WR-TIMEZONE:Europe/Madrid
DESCRIPTION:Organitza Ruben Gallart

URI:https://www.elpont.cat/actualitat/agenda/4098-festa-major-rocafort-2021-mou-te.html
CLASS:PUBLIC
END:VEVENT
END:VCALENDAR
