BEGIN:VCALENDAR
VERSION:2.0
CALSCALE:GREGORIAN
PRODID:-//Diputació de Barcelona//DibaCMS//EN
BEGIN:VEVENT
UID:4156
DTSTAMP:20260422T013837
DTSTART:20211006T150000
DTEND:20211006T150000
SUMMARY:Activitats Biblioteca octubre 2021 - Biblioteràpia "Angoixa"
LOCATION:Sant Pere Regalat, 72, baixos 08254 El Pont de Vilomara i Rocafort
METHOD:PUBLISH
X-WR-CALNAME:info.pont@elpont.cat
X-WR-TIMEZONE:Europe/Madrid
DESCRIPTION:Laura García, especialista en comunicació literària, ens descobrirà històries que ens poden fer entendre i combatre l’angoixa, un dels sentiments i emocions més comuns en el nostre dia a dia. La literatura ens ajuda a entendre com ens sentim i ,per tant, ens dona eines per aconseguir benestar emocional.

Dins el programa del Dia de la Salut Mental.

URI:https://www.elpont.cat/actualitat/agenda/activitats-biblioteca-octubre-2021-biblioterapia-angoixa.html
CLASS:PUBLIC
END:VEVENT
END:VCALENDAR
