BEGIN:VCALENDAR
VERSION:2.0
CALSCALE:GREGORIAN
PRODID:-//Diputació de Barcelona//DibaCMS//EN
BEGIN:VEVENT
UID:4215
DTSTAMP:20260421T121703
DTSTART:20211212T100000
DTEND:20211212T130000
SUMMARY:XV Cursa Atlètica "Memorial Alcalde Evaristo"
LOCATION:Sortida i arribada a la Plaça de l'Ajuntament. 
METHOD:PUBLISH
X-WR-CALNAME:info.pont@elpont.cat
X-WR-TIMEZONE:Europe/Madrid
DESCRIPTION:Diumenge 12 de desembre torna la cursa Memorial Alcalde Evaristo.

Aquesta és la seva quinzena edició en la que s'ha consolidat com una de les curses més importants de la nostra zona.

URI:https://www.elpont.cat/actualitat/agenda/xv-cursa-atletica-memorial-alcalde-evaristo.html
CLASS:PUBLIC
END:VEVENT
END:VCALENDAR
