BEGIN:VCALENDAR
VERSION:2.0
CALSCALE:GREGORIAN
PRODID:-//Diputació de Barcelona//DibaCMS//EN
BEGIN:VEVENT
UID:7391
DTSTAMP:20260421T174041
DTSTART:20220709T103000
DTEND:20220709T133000
SUMMARY:Festa Major 2022 - Matinal de construccions Kapla
LOCATION:Sant Pere Regalat, 72, baixos 08254 El Pont de Vilomara i Rocafort
METHOD:PUBLISH
X-WR-CALNAME:info.pont@elpont.cat
X-WR-TIMEZONE:Europe/Madrid
DESCRIPTION:
URI:https://www.elpont.cat/actualitat/agenda/festa-major-2022-matinal-de-construccions-kapla.html
CLASS:PUBLIC
END:VEVENT
END:VCALENDAR
