BEGIN:VCALENDAR
VERSION:2.0
CALSCALE:GREGORIAN
PRODID:-//Diputació de Barcelona//DibaCMS//EN
BEGIN:VEVENT
UID:7619
DTSTAMP:20260422T173153
DTSTART:20230207T110000
DTEND:20230207T130000
SUMMARY:Sessió informativa "L'administració a prop teu"
LOCATION:Plaça de l'Ajuntament, 1 08254 El Pont de Vilomara i Rocafort
METHOD:PUBLISH
X-WR-CALNAME:info.pont@elpont.cat
X-WR-TIMEZONE:Europe/Madrid
DESCRIPTION:Sessió on s'informarà dels procediments electrònics per accedir als tràmits de les administracions públiques.

URI:https://www.elpont.cat/actualitat/agenda/7619-sessio-informativa-ladministracio-a-prop-teu.html
CLASS:PUBLIC
END:VEVENT
END:VCALENDAR
