BEGIN:VCALENDAR
VERSION:2.0
CALSCALE:GREGORIAN
PRODID:-//Diputació de Barcelona//DibaCMS//EN
BEGIN:VEVENT
UID:7647
DTSTAMP:20260421T142919
DTSTART:20230312T000000
DTEND:20230312T000000
SUMMARY:Festa del Contribuent 2023 - Ball amb DJ
LOCATION:Passeig de la Pau, s/n 08254 El Pont de Vilomara i Rocafort
METHOD:PUBLISH
X-WR-CALNAME:info.pont@elpont.cat
X-WR-TIMEZONE:Europe/Madrid
DESCRIPTION:Amb Jordi Armengol.

URI:https://www.elpont.cat/actualitat/agenda/festa-del-contribuent-2023-ball-amb-dj.html
CLASS:PUBLIC
END:VEVENT
END:VCALENDAR
